2.438400000000
0.000000000000
0.000000000000
-2.438400000000
292442.779053770180
4681225.380337331400
