2.438400000000
0.000000000000
0.000000000000
-2.438400000000
251584.139959571040
4696443.454383491500
