2.438400000000
0.000000000000
0.000000000000
-2.438400000000
621829.808871754560
4735054.108404666200
