2.438400000000
0.000000000000
0.000000000000
-2.438400000000
621336.874948660610
4762814.253083342700
