2.438400000000
0.000000000000
0.000000000000
-2.438400000000
600961.565307114620
4762448.240695526800
