2.438400000000
0.000000000000
0.000000000000
-2.438400000000
509354.312566306442
4664242.171572027728
