2.438400000000
0.000000000000
0.000000000000
-2.438400000000
550574.531665246817
4678367.662563309073
