2.438400000000
0.000000000000
0.000000000000
-2.438400000000
478784.645742301310
4803192.907796764700
