2.438400000000
0.000000000000
0.000000000000
-2.438400000000
438555.447345496500
4845088.204184073000
