2.438400000000
0.000000000000
0.000000000000
-2.438400000000
428763.081133898760
4872952.183343946900
