2.438400000000
0.000000000000
0.000000000000
-2.438400000000
336017.276240280890
4777360.810895719600
