2.438400000000
0.000000000000
0.000000000000
-2.438400000000
336348.635379674730
4791240.713045421100
