2.438400000000
0.000000000000
0.000000000000
-2.438400000000
337012.595488383730
4819007.492885655700
