2.438400000000
0.000000000000
0.000000000000
-2.438400000000
357564.900362445910
4832430.397175566300
