2.438400000000
0.000000000000
0.000000000000
-2.438400000000
276690.376114197366
4834632.983627504660
