2.438400000000
0.000000000000
0.000000000000
-2.438400000000
631258.179808264715
4776756.540447772481
