2.438400000000
0.000000000000
0.000000000000
-2.438400000000
589273.967478129780
4873199.759866447188
