2.438400000000
0.000000000000
0.000000000000
-2.438400000000
549450.272142308300
4858815.152544744300
