2.438400000000
0.000000000000
0.000000000000
-2.438400000000
320159.153638177493
4944327.749436531216
