2.438400000000
0.000000000000
0.000000000000
-2.438400000000
718839.421300823684
4890358.432460282929
