2.438400000000
0.000000000000
0.000000000000
-2.438400000000
698841.034656775068
4889688.137100926600
