2.438400000000
0.000000000000
0.000000000000
-2.438400000000
657144.287836112198
4957949.556316427886
