2.438400
0.000000
0.000000
-2.438400
548519.343292
4900493.969630
