2.438400000000
0.000000000000
0.000000000000
-2.438400000000
587550.977092479239
4998161.906400864010
