2.438400000000
0.000000000000
0.000000000000
-2.438400000000
616933.996915303287
5012572.720083767540
