2.438400000000
0.000000000000
0.000000000000
-2.438400000000
626461.994340627221
5026665.811733841890
