2.438400000000
0.000000000000
0.000000000000
-2.438400000000
548060.411258331150
5039328.754545855330
