2.438400000000
0.000000000000
0.000000000000
-2.438400000000
624330.228944150615
5123913.331828266382
