2.438400
0.000000
0.000000
-2.438400
508642.647754
5108536.883930
