2.438400
0.000000
0.000000
-2.438400
499059.674528
5150194.060870
