2.438400
0.000000
0.000000
-2.438400
565837.267939
5178331.291000
