2.438400
0.000000
0.000000
-2.438400
507964.491839
5205743.133880
