2.438400000000
0.000000000000
0.000000000000
-2.438400000000
555963.254785251338
5220137.643596959300
