2.438400000000
0.000000000000
0.000000000000
-2.438400000000
565133.342050752020
5248033.290725335479
