2.438400000000
0.000000000000
0.000000000000
-2.438400000000
508496.363835626282
5261463.614028252661
