2.438400000000
0.000000000000
0.000000000000
-2.438400000000
554207.548393996781
5400745.543326655400
