2.43840000
0.00000000
0.00000000
-2.43840000
310420.36951578
4125300.01164925
