2.43840000
0.00000000
0.00000000
-2.43840000
293885.75345225
4347783.32260311
