2.43840000
0.00000000
0.00000000
-2.43840000
316153.32561573
4374990.56625307
