2.43840000
0.00000000
0.00000000
-2.43840000
294975.58631813
4389405.94284935
