2.43840000
0.00000000
0.00000000
-2.43840000
252857.12024284
4418418.81585583
