2.43840000
0.00000000
0.00000000
-2.43840000
736949.91020535
4335164.22971427
