2.43840000
0.00000000
0.00000000
-2.43840000
735685.40935883
4376788.19857199
