2.438400
0.000000
0.000000
-2.438400
413971.160276
4470501.136876
