2.43840000
0.00000000
0.00000000
-2.43840000
403154.38003937
4442800.97501023
