2.43840000
0.00000000
0.00000000
-2.43840000
392512.96235732
4442943.93355356
