2.43840000
0.00000000
0.00000000
-2.43840000
350091.51991571
4457541.29235597
