2.43840000
0.00000000
0.00000000
-2.43840000
360998.83104740
4471211.96877716
