2.43840000
0.00000000
0.00000000
-2.43840000
350914.93663874
4499167.23193688
