2.438400
0.000000
0.000000
-2.438400
264864.957575
4473624.546415
